BEGIN:VCALENDAR
VERSION:2.0
PRODID:-//Scuole di Danza Ballet - ECPv6.15.11//NONSGML v1.0//EN
CALSCALE:GREGORIAN
METHOD:PUBLISH
X-ORIGINAL-URL:https://www.scuoleballet.it
X-WR-CALDESC:Eventi per Scuole di Danza Ballet
REFRESH-INTERVAL;VALUE=DURATION:PT1H
X-Robots-Tag:noindex
X-PUBLISHED-TTL:PT1H
BEGIN:VTIMEZONE
TZID:UTC
BEGIN:STANDARD
TZOFFSETFROM:+0000
TZOFFSETTO:+0000
TZNAME:UTC
DTSTART:20170101T000000
END:STANDARD
END:VTIMEZONE
BEGIN:VEVENT
DTSTART;TZID=UTC:20181215T000000
DTEND;TZID=UTC:20181215T235959
DTSTAMP:20260421T181104
CREATED:20190723T172954Z
LAST-MODIFIED:20190723T195213Z
UID:8507-1544832000-1544918399@www.scuoleballet.it
SUMMARY:15 DICEMBRE 2018 SPETTACOLO “SCHIACCIANOCI” PER TELETHON
DESCRIPTION:Un piccolo gesto per un grande progetto! Da anni  la BALLET  decide di abbracciare la causa di Telethon e mettere in scena uno spettacolo ove si esibiscono gli allievi delle diverse sedi per raccogliere dei fondi a favore della ricerca.
URL:https://www.scuoleballet.it/eventi/15-dicembre-2018-spettacolo-schiaccianoci-per-telethon/
LOCATION:Sede Scuole Ballet (Lecco)\, Via dell'Isola\, Lecco\, 23900\, Italia
CATEGORIES:News
ATTACH;FMTTYPE=image/jpeg:https://www.scuoleballet.it/wp-content/uploads/2018/04/Telethon.jpg
END:VEVENT
END:VCALENDAR